


BEGIN:VCALENDAR
VERSION:2.0
PRODID:-//ACSE - ECPv5.0.1//NONSGML v1.0//EN
CALSCALE:GREGORIAN
METHOD:PUBLISH
X-WR-CALNAME:ACSE
X-ORIGINAL-URL:https://www.acse.org.au
X-WR-CALDESC:Events for ACSE
BEGIN:VTIMEZONE
TZID:Australia/Sydney
BEGIN:STANDARD
TZOFFSETFROM:+1100
TZOFFSETTO:+1000
TZNAME:AEST
DTSTART:20200404T160000
END:STANDARD
BEGIN:DAYLIGHT
TZOFFSETFROM:+1000
TZOFFSETTO:+1100
TZNAME:AEDT
DTSTART:20201003T160000
END:DAYLIGHT
TZID:Europe/Paris
BEGIN:DAYLIGHT
TZOFFSETFROM:+0100
TZOFFSETTO:+0200
TZNAME:CEST
DTSTART:20200329T010000
END:DAYLIGHT
BEGIN:STANDARD
TZOFFSETFROM:+0200
TZOFFSETTO:+0100
TZNAME:CET
DTSTART:20201025T010000
END:STANDARD
END:VTIMEZONE
BEGIN:VEVENT
DTSTART;TZID=Australia/Sydney:20200303T173000
DTEND;TZID=Australia/Sydney:20200303T193000
DTSTAMP:20200228T125857
CREATED:20191030T003526Z
LAST-MODIFIED:20200224T005447Z
UID:6358-1583256600-1583263800@www.acse.org.au
SUMMARY:Engineering in the Pub: International Women's Day 2020
DESCRIPTION:Advocacy and school outreach: Incentivising young women in structural engineering \nOur second pub seminar for the year is a presentation by inspiring female engineers to celebrate International Women’s Day 2020. \nFeaturing: \nKaitlyn Davidson\, Built\nIsabel Duffy\, Northrop Engineering (2020 Female Engineer of the Year\, ACSE Awards)\nSasha Kovic\, Roberts Pizzarotti \nFacilitated by Nishmin Hallam from Taylor Thomson Whitting and the ACSE Board \nOn the first Tuesday of each month we host a presentation which is open to non-members\, associates and junior engineers. These sessions explore technical and project-based topics in a casual pub environment. Held upstairs at The Occidental Hotel with complimentary bowls of chips\, these events always run at capacity and registration is essential. \n
URL:https://www.acse.org.au/event/engineering-in-the-pub-march-2020/
LOCATION:Occidental Hotel\, 43 York Street\, Sydney\, NSW\, 2000\, Australia
ATTACH;FMTTYPE=image/jpeg:https://www.acse.org.au/wp-content/uploads/2017/11/National-Women-in-Engineering-Day.jpg
ORGANIZER;CN="ACSE":MAILTO:admin@acse.org.au
END:VEVENT
BEGIN:VEVENT
DTSTART;TZID=Australia/Sydney:20200319T183000
DTEND;TZID=Australia/Sydney:20200319T213000
DTSTAMP:20200228T125857
CREATED:20191030T005601Z
LAST-MODIFIED:20200214T021020Z
UID:6377-1584642600-1584653400@www.acse.org.au
SUMMARY:2020 Annual Awards Presentation Night
DESCRIPTION:View all the amazing submissions\, meet the judges and congratulate the winners! \nOur Annual Awards Presentation will be held at L’Aqua Cockle Bay Wharf\, awarding Excellence in Engineering. \nJoin us for a cocktail event to hear all about the very best engineering projects of 2019\, small and large! Our panel of professional judges will announce the winners and all the submissions will be on display. \nAttendance is free for all fully subscribed ACSE members and sponsors (max 4 people) and to structural engineers involved with awards submissions (max 4 per project). \n$25 tickets for non-ACSE members (plus GST & BF) \n
URL:https://www.acse.org.au/event/2020-annual-awards-presentation-night/
LOCATION:L’Aqua Gold Room\, Roof Top Level\, Cockle Bay Wharf\, Darling Park\, NSW\, 2000\, Australia
ATTACH;FMTTYPE=image/jpeg:https://www.acse.org.au/wp-content/uploads/2019/10/ACSE-Awards-Night.jpg
ORGANIZER;CN="ACSE":MAILTO:admin@acse.org.au
END:VEVENT
BEGIN:VEVENT
DTSTART;TZID=Australia/Sydney:20200407T173000
DTEND;TZID=Australia/Sydney:20200407T193000
DTSTAMP:20200228T125857
CREATED:20191030T003704Z
LAST-MODIFIED:20191031T040927Z
UID:6360-1586280600-1586287800@www.acse.org.au
SUMMARY:Engineering in the Pub: April 2020
DESCRIPTION:Our technology talks or project presentations. \nMore details coming soon. \nSave the date! \n
URL:https://www.acse.org.au/event/engineering-in-the-pub-april-2020/
LOCATION:Occidental Hotel\, 43 York Street\, Sydney\, NSW\, 2000\, Australia
CATEGORIES:Engineering in the Pub
ORGANIZER;CN="ACSE":MAILTO:admin@acse.org.au
END:VEVENT
BEGIN:VEVENT
DTSTART;TZID=Australia/Sydney:20200505T173000
DTEND;TZID=Australia/Sydney:20200505T193000
DTSTAMP:20200228T125857
CREATED:20191030T003802Z
LAST-MODIFIED:20191031T040226Z
UID:6362-1588699800-1588707000@www.acse.org.au
SUMMARY:Engineering in the Pub: May 2020
DESCRIPTION:Our technology talks or project presentations. \nMore details coming soon. \nSave the date! \n
URL:https://www.acse.org.au/event/engineering-in-the-pub-may-2020/
LOCATION:Occidental Hotel\, 43 York Street\, Sydney\, NSW\, 2000\, Australia
ORGANIZER;CN="ACSE":MAILTO:admin@acse.org.au
END:VEVENT
BEGIN:VEVENT
DTSTART;TZID=Australia/Sydney:20200602T173000
DTEND;TZID=Australia/Sydney:20200602T193000
DTSTAMP:20200228T125857
CREATED:20191030T004303Z
LAST-MODIFIED:20191031T040144Z
UID:6364-1591119000-1591126200@www.acse.org.au
SUMMARY:Engineering in the Pub: June 2020
DESCRIPTION:Our technology talks or project presentations. \nMore details coming soon. \nSave the date! \n
URL:https://www.acse.org.au/event/engineering-in-the-pub-june-2020/
LOCATION:Occidental Hotel\, 43 York Street\, Sydney\, NSW\, 2000\, Australia
ORGANIZER;CN="ACSE":MAILTO:admin@acse.org.au
END:VEVENT
BEGIN:VEVENT
DTSTART;TZID=Australia/Sydney:20200707T173000
DTEND;TZID=Australia/Sydney:20200707T193000
DTSTAMP:20200228T125857
CREATED:20191030T004354Z
LAST-MODIFIED:20191031T035939Z
UID:6366-1594143000-1594150200@www.acse.org.au
SUMMARY:Engineering in the Pub: July 2020
DESCRIPTION:Our technology talks or project presentations. \nMore details coming soon. \nSave the date! \n
URL:https://www.acse.org.au/event/engineering-in-the-pub-july-2020/
LOCATION:Occidental Hotel\, 43 York Street\, Sydney\, NSW\, 2000\, Australia
CATEGORIES:Engineering in the Pub
ORGANIZER;CN="ACSE":MAILTO:admin@acse.org.au
END:VEVENT
BEGIN:VEVENT
DTSTART;TZID=Australia/Sydney:20200804T173000
DTEND;TZID=Australia/Sydney:20200804T193000
DTSTAMP:20200228T125857
CREATED:20191030T004455Z
LAST-MODIFIED:20191031T035838Z
UID:6368-1596562200-1596569400@www.acse.org.au
SUMMARY:Engineering in the Pub: August 2020
DESCRIPTION:Our technology talks or project presentations. \nMore details coming soon. \nSave the date! \n
URL:https://www.acse.org.au/event/engineering-in-the-pub-august-2020/
LOCATION:Occidental Hotel\, 43 York Street\, Sydney\, NSW\, 2000\, Australia
ORGANIZER;CN="ACSE":MAILTO:admin@acse.org.au
END:VEVENT
BEGIN:VEVENT
DTSTART;TZID=Australia/Sydney:20200901T173000
DTEND;TZID=Australia/Sydney:20200901T193000
DTSTAMP:20200228T125857
CREATED:20191030T004727Z
LAST-MODIFIED:20191031T035737Z
UID:6373-1598981400-1598988600@www.acse.org.au
SUMMARY:Engineering in the Pub: September 2020
DESCRIPTION:Our technology talks or project presentations. \nMore details coming soon. \nSave the date! \n
URL:https://www.acse.org.au/event/engineering-in-the-pub-september-2020-2/
LOCATION:Occidental Hotel\, 43 York Street\, Sydney\, NSW\, 2000\, Australia
CATEGORIES:Engineering in the Pub
ORGANIZER;CN="ACSE":MAILTO:admin@acse.org.au
END:VEVENT
BEGIN:VEVENT
DTSTART;TZID=Australia/Sydney:20201006T173000
DTEND;TZID=Australia/Sydney:20201006T193000
DTSTAMP:20200228T125857
CREATED:20191030T004819Z
LAST-MODIFIED:20191031T035635Z
UID:6375-1602005400-1602012600@www.acse.org.au
SUMMARY:Engineering in the Pub: October 2020
DESCRIPTION:Our technology talks or project presentations. \nMore details coming soon. \nSave the date! \n
URL:https://www.acse.org.au/event/engineering-in-the-pub-october-2020/
LOCATION:Occidental Hotel\, 43 York Street\, Sydney\, NSW\, 2000\, Australia
ORGANIZER;CN="ACSE":MAILTO:admin@acse.org.au
END:VEVENT
BEGIN:VEVENT
DTSTART;TZID=Europe/Paris:20201021T140000
DTEND;TZID=Europe/Paris:20201021T210000
DTSTAMP:20200228T125857
CREATED:20200130T030025Z
LAST-MODIFIED:20200130T031349Z
UID:6735-1603288800-1603314000@www.acse.org.au
SUMMARY:Annual Golf Day at Avondale 2020
DESCRIPTION:We will play 18 holes in Ambrose format\, with registration opening at 12.45pm and a gun-shot start at 2pm. This will be followed by a tasty BBQ at 6:00pm at the clubhouse with a prize presentation. The event will conclude at 9pm. \nAvondale offers a beautiful 18 hole course available for ACSE to enjoy. These are some of the best greens in Sydney. \nA fun day for all\, whatever your ability! \nPrizes will be presented at the evening dinner: Overall Trophy Winners Nett\, Winner Scratch\, 2 x Nearest to Pins\, 2 x Longest Drives & Best Dressed Team \nRegistration available to individual players (to be placed into teams) or as a team of 4. \nIf you want a golf cart these needs to be booked and paid for directly with Avondale. \nPlease read DRESS REGULATIONS and RULES OF PLAY  \n
URL:https://www.acse.org.au/event/annual-golf-day-at-avondale-2020/
LOCATION:Avondale Golf Club\, Avon Rd\, \, Pymble\, NSW\, 2073\, Australia
CATEGORIES:Annual Golf Day
ORGANIZER;CN="ACSE":MAILTO:admin@acse.org.au
END:VEVENT
END:VCALENDAR